BEGIN:VCALENDAR
VERSION:2.0
PRODID:-//www.arcnbc.org//NONSGML kigkonsult.se iCalcreator 2.30.10//
CALSCALE:GREGORIAN
METHOD:PUBLISH
UID:a3f85efe-86ed-4106-99f6-5b0289cd01f6
X-WR-CALDESC:
X-WR-RELCALID:4154f7f26d27939bed00568835e0a177
X-WR-TIMEZONE:America/New_York
BEGIN:VTIMEZONE
TZID:America/New_York
BEGIN:STANDARD
TZNAME:EST
DTSTART:20171105T020000
TZOFFSETFROM:-0400
TZOFFSETTO:-0500
RDATE:20181104T020000
END:STANDARD
BEGIN:DAYLIGHT
TZNAME:EDT
DTSTART:20170312T020000
TZOFFSETFROM:-0500
TZOFFSETTO:-0400
RDATE:20180311T020000
RDATE:20190310T020000
END:DAYLIGHT
END:VTIMEZONE
BEGIN:VEVENT
UID:b16e7acb-129b-42b5-b055-cebca471c5e9
DTSTAMP:20260423T165521Z
DESCRIPTION:
DTSTART;TZID=America/New_York:20171107T180000
DTEND;TZID=America/New_York:20171107T213000
LOCATION:Arc Attleboro
SUMMARY:Dinning with the Arc
END:VEVENT
END:VCALENDAR
