BEGIN:VCALENDAR
VERSION:2.0
PRODID:-//www.arcnbc.org//NONSGML kigkonsult.se iCalcreator 2.30.10//
CALSCALE:GREGORIAN
METHOD:PUBLISH
UID:98a7dc10-7d9f-482c-92a6-796e7b575c6f
X-WR-CALDESC:
X-WR-RELCALID:836e4a16efcd507a3302e310fb74ed2f
X-WR-TIMEZONE:America/New_York
BEGIN:VTIMEZONE
TZID:America/New_York
BEGIN:STANDARD
TZNAME:EST
DTSTART:20171105T020000
TZOFFSETFROM:-0400
TZOFFSETTO:-0500
RDATE:20181104T020000
END:STANDARD
BEGIN:DAYLIGHT
TZNAME:EDT
DTSTART:20170312T020000
TZOFFSETFROM:-0500
TZOFFSETTO:-0400
RDATE:20180311T020000
RDATE:20190310T020000
END:DAYLIGHT
END:VTIMEZONE
BEGIN:VEVENT
UID:7b013ba8-38c7-4d6a-ae6d-b099e005414e
DTSTAMP:20260423T165808Z
DESCRIPTION:
DTSTART;TZID=America/New_York:20171108T150000
DTEND;TZID=America/New_York:20171108T170000
LOCATION:TARC
SUMMARY:Bingo
END:VEVENT
END:VCALENDAR
