BEGIN:VCALENDAR
VERSION:2.0
PRODID:-//www.arcnbc.org//NONSGML kigkonsult.se iCalcreator 2.30.10//
CALSCALE:GREGORIAN
METHOD:PUBLISH
UID:918d819f-2728-4133-a2cb-92b900006c3b
X-WR-CALDESC:
X-WR-RELCALID:e7202dbb292a66e99b9d54623f52d9c2
X-WR-TIMEZONE:America/New_York
BEGIN:VTIMEZONE
TZID:America/New_York
BEGIN:STANDARD
TZNAME:EST
DTSTART:20171105T020000
TZOFFSETFROM:-0400
TZOFFSETTO:-0500
RDATE:20181104T020000
END:STANDARD
BEGIN:DAYLIGHT
TZNAME:EDT
DTSTART:20170312T020000
TZOFFSETFROM:-0500
TZOFFSETTO:-0400
RDATE:20180311T020000
RDATE:20190310T020000
END:DAYLIGHT
END:VTIMEZONE
BEGIN:VEVENT
UID:f1feb616-e6de-4935-8955-29d6d0e4344d
DTSTAMP:20260423T165401Z
DESCRIPTION:
DTSTART;TZID=America/New_York:20171109T090000
DTEND;TZID=America/New_York:20171109T150000
LOCATION:New Bedford Office
SUMMARY:First Aid/CPR
END:VEVENT
END:VCALENDAR
