BEGIN:VCALENDAR
VERSION:2.0
PRODID:-//www.arcnbc.org//NONSGML kigkonsult.se iCalcreator 2.30.10//
CALSCALE:GREGORIAN
METHOD:PUBLISH
UID:98fe5903-7c38-4754-b172-ac0e003dfe0a
X-WR-CALDESC:
X-WR-RELCALID:f9775dfebe5e2ad68c38a65d34eb6e8d
X-WR-TIMEZONE:America/New_York
BEGIN:VTIMEZONE
TZID:America/New_York
BEGIN:STANDARD
TZNAME:EST
DTSTART:20171105T020000
TZOFFSETFROM:-0400
TZOFFSETTO:-0500
RDATE:20181104T020000
END:STANDARD
BEGIN:DAYLIGHT
TZNAME:EDT
DTSTART:20170312T020000
TZOFFSETFROM:-0500
TZOFFSETTO:-0400
RDATE:20180311T020000
RDATE:20190310T020000
END:DAYLIGHT
END:VTIMEZONE
BEGIN:VEVENT
UID:e2e1b70c-abe9-481c-a298-ffa86edd74e7
DTSTAMP:20260423T170050Z
DESCRIPTION:
DTSTART;TZID=America/New_York:20171113T150000
DTEND;TZID=America/New_York:20171113T170000
LOCATION:TARC
SUMMARY:Chair Yoga
END:VEVENT
END:VCALENDAR
