BEGIN:VCALENDAR
VERSION:2.0
PRODID:-//www.arcnbc.org//NONSGML kigkonsult.se iCalcreator 2.30.10//
CALSCALE:GREGORIAN
METHOD:PUBLISH
UID:e1b5528a-4620-43f4-97d0-53894f2f65b3
X-WR-CALDESC:
X-WR-RELCALID:c3afb1f3ed76280914ac87fe8d03de17
X-WR-TIMEZONE:America/New_York
BEGIN:VTIMEZONE
TZID:America/New_York
BEGIN:STANDARD
TZNAME:EST
DTSTART:20171105T020000
TZOFFSETFROM:-0400
TZOFFSETTO:-0500
RDATE:20181104T020000
END:STANDARD
BEGIN:DAYLIGHT
TZNAME:EDT
DTSTART:20170312T020000
TZOFFSETFROM:-0500
TZOFFSETTO:-0400
RDATE:20180311T020000
RDATE:20190310T020000
END:DAYLIGHT
END:VTIMEZONE
BEGIN:VEVENT
UID:65f8b8cf-2bae-4b5a-944c-6229b6ca57f7
DTSTAMP:20260423T165645Z
DESCRIPTION:
DTSTART;TZID=America/New_York:20171114T180000
DTEND;TZID=America/New_York:20171114T200000
LOCATION:E. Providence Lanes
SUMMARY:Bowling
END:VEVENT
END:VCALENDAR
