BEGIN:VCALENDAR
VERSION:2.0
PRODID:-//www.arcnbc.org//NONSGML kigkonsult.se iCalcreator 2.30.10//
CALSCALE:GREGORIAN
METHOD:PUBLISH
UID:49df91a5-93f9-4849-84fc-b01bee26286b
X-WR-CALDESC:
X-WR-RELCALID:a3f3ca21bac8c8aae2cd47c9509dc190
X-WR-TIMEZONE:America/New_York
BEGIN:VTIMEZONE
TZID:America/New_York
BEGIN:STANDARD
TZNAME:EST
DTSTART:20171105T020000
TZOFFSETFROM:-0400
TZOFFSETTO:-0500
RDATE:20181104T020000
END:STANDARD
BEGIN:DAYLIGHT
TZNAME:EDT
DTSTART:20170312T020000
TZOFFSETFROM:-0500
TZOFFSETTO:-0400
RDATE:20180311T020000
RDATE:20190310T020000
END:DAYLIGHT
END:VTIMEZONE
BEGIN:VEVENT
UID:bb1c600a-a1f3-47cd-b42d-38b9ba5f6736
DTSTAMP:20260423T165747Z
DESCRIPTION:
DTSTART;TZID=America/New_York:20171115T160000
DTEND;TZID=America/New_York:20171115T190000
LOCATION:Arc Attleboro/ East Taunton Kenpo Karate
SUMMARY:Karate
END:VEVENT
END:VCALENDAR
