BEGIN:VCALENDAR
VERSION:2.0
PRODID:-//www.arcnbc.org//NONSGML kigkonsult.se iCalcreator 2.30.10//
CALSCALE:GREGORIAN
METHOD:PUBLISH
UID:40764452-c0b4-4772-9805-6657f0c23161
X-WR-CALDESC:New Employee Orientation
X-WR-RELCALID:f3d8b64d5365cf9e7cce8a407c1f9d34
X-WR-TIMEZONE:America/New_York
BEGIN:VTIMEZONE
TZID:America/New_York
BEGIN:STANDARD
TZNAME:EST
DTSTART:20171105T020000
TZOFFSETFROM:-0400
TZOFFSETTO:-0500
RDATE:20181104T020000
END:STANDARD
BEGIN:DAYLIGHT
TZNAME:EDT
DTSTART:20170312T020000
TZOFFSETFROM:-0500
TZOFFSETTO:-0400
RDATE:20180311T020000
RDATE:20190310T020000
END:DAYLIGHT
END:VTIMEZONE
BEGIN:VEVENT
UID:4f804089-e639-4ca3-b5ae-99652f08f6c4
DTSTAMP:20260423T182841Z
DESCRIPTION:New Employee Orientation
DTSTART;TZID=America/New_York:20171115T100000
DTEND;TZID=America/New_York:20171115T160000
LOCATION:141 Park Street
SUMMARY:Orientation
END:VEVENT
END:VCALENDAR
