BEGIN:VCALENDAR
VERSION:2.0
PRODID:-//www.arcnbc.org//NONSGML kigkonsult.se iCalcreator 2.30.10//
CALSCALE:GREGORIAN
METHOD:PUBLISH
UID:3e778e3c-7a0c-4b8c-9dad-7830821a8d80
X-WR-CALDESC:
X-WR-RELCALID:bda2cc64556cf7820f247056a40969c0
X-WR-TIMEZONE:America/New_York
BEGIN:VTIMEZONE
TZID:America/New_York
BEGIN:STANDARD
TZNAME:EST
DTSTART:20171105T020000
TZOFFSETFROM:-0400
TZOFFSETTO:-0500
RDATE:20181104T020000
END:STANDARD
BEGIN:DAYLIGHT
TZNAME:EDT
DTSTART:20170312T020000
TZOFFSETFROM:-0500
TZOFFSETTO:-0400
RDATE:20180311T020000
RDATE:20190310T020000
END:DAYLIGHT
END:VTIMEZONE
BEGIN:VEVENT
UID:2ff9288d-758b-4da6-bf91-8d1e56f90cdc
DTSTAMP:20260423T165821Z
DESCRIPTION:
DTSTART;TZID=America/New_York:20171117T190000
DTEND;TZID=America/New_York:20171117T210000
LOCATION:Attleboro YMCA- Pleasant St. Branch
SUMMARY:GO Night
END:VEVENT
END:VCALENDAR
