BEGIN:VCALENDAR
VERSION:2.0
PRODID:-//www.arcnbc.org//NONSGML kigkonsult.se iCalcreator 2.30.10//
CALSCALE:GREGORIAN
METHOD:PUBLISH
UID:3b519079-d767-4050-a0fa-6c624fb42de4
X-WR-CALDESC:
X-WR-RELCALID:137d3f03b8e9cc3c8f6bc0d4e3525941
X-WR-TIMEZONE:America/New_York
BEGIN:VTIMEZONE
TZID:America/New_York
BEGIN:STANDARD
TZNAME:EST
DTSTART:20171105T020000
TZOFFSETFROM:-0400
TZOFFSETTO:-0500
RDATE:20181104T020000
END:STANDARD
BEGIN:DAYLIGHT
TZNAME:EDT
DTSTART:20170312T020000
TZOFFSETFROM:-0500
TZOFFSETTO:-0400
RDATE:20180311T020000
RDATE:20190310T020000
END:DAYLIGHT
END:VTIMEZONE
BEGIN:VEVENT
UID:69a65962-cd73-4129-a192-97859e6e0bb2
DTSTAMP:20260423T165519Z
DESCRIPTION:
DTSTART;TZID=America/New_York:20171120T173000
DTEND;TZID=America/New_York:20171120T210000
LOCATION:Cinema Pub- N. Attleboro
SUMMARY:Dinner & Movie
END:VEVENT
END:VCALENDAR
