BEGIN:VCALENDAR
VERSION:2.0
PRODID:-//www.arcnbc.org//NONSGML kigkonsult.se iCalcreator 2.30.10//
CALSCALE:GREGORIAN
METHOD:PUBLISH
UID:a5677921-f2ad-47d7-8817-7c685302a751
X-WR-CALDESC:
X-WR-RELCALID:fea20d5601ac15e22e5961056a7802d7
X-WR-TIMEZONE:America/New_York
BEGIN:VTIMEZONE
TZID:America/New_York
BEGIN:STANDARD
TZNAME:EST
DTSTART:20171105T020000
TZOFFSETFROM:-0400
TZOFFSETTO:-0500
RDATE:20181104T020000
END:STANDARD
BEGIN:DAYLIGHT
TZNAME:EDT
DTSTART:20170312T020000
TZOFFSETFROM:-0500
TZOFFSETTO:-0400
RDATE:20180311T020000
RDATE:20190310T020000
END:DAYLIGHT
END:VTIMEZONE
BEGIN:VEVENT
UID:222d3e78-69e4-4aaf-b039-f14c6f83ff0d
DTSTAMP:20260423T165808Z
DESCRIPTION:
DTSTART;TZID=America/New_York:20171121T133000
DTEND;TZID=America/New_York:20171121T143000
LOCATION:TARC
SUMMARY:Zumba
END:VEVENT
END:VCALENDAR
