BEGIN:VCALENDAR
VERSION:2.0
PRODID:-//www.arcnbc.org//NONSGML kigkonsult.se iCalcreator 2.30.10//
CALSCALE:GREGORIAN
METHOD:PUBLISH
UID:dbc4cb1d-3a7a-4470-bfe2-40bb5b0fe995
X-WR-CALDESC:
X-WR-RELCALID:56b8069f02391bbbb88f2f88e1f3f948
X-WR-TIMEZONE:America/New_York
BEGIN:VTIMEZONE
TZID:America/New_York
BEGIN:STANDARD
TZNAME:EST
DTSTART:20171105T020000
TZOFFSETFROM:-0400
TZOFFSETTO:-0500
RDATE:20181104T020000
END:STANDARD
BEGIN:DAYLIGHT
TZNAME:EDT
DTSTART:20170312T020000
TZOFFSETFROM:-0500
TZOFFSETTO:-0400
RDATE:20180311T020000
RDATE:20190310T020000
END:DAYLIGHT
END:VTIMEZONE
BEGIN:VEVENT
UID:a2764af0-2100-4465-8400-bf42ce355d80
DTSTAMP:20260423T165814Z
DESCRIPTION:
DTSTART;TZID=America/New_York:20171128T180000
DTEND;TZID=America/New_York:20171128T200000
LOCATION:E. Providence Lanes
SUMMARY:Bowling
END:VEVENT
END:VCALENDAR
