BEGIN:VCALENDAR
VERSION:2.0
PRODID:-//www.arcnbc.org//NONSGML kigkonsult.se iCalcreator 2.30.10//
CALSCALE:GREGORIAN
METHOD:PUBLISH
UID:c03861dd-5c24-4b51-9e45-2a8b6e5d95ab
X-WR-CALDESC:New Employee Orientation
X-WR-RELCALID:bf9589953e3927c44ae5616ef8952e4e
X-WR-TIMEZONE:America/New_York
BEGIN:VTIMEZONE
TZID:America/New_York
BEGIN:STANDARD
TZNAME:EST
DTSTART:20171105T020000
TZOFFSETFROM:-0400
TZOFFSETTO:-0500
RDATE:20181104T020000
END:STANDARD
BEGIN:DAYLIGHT
TZNAME:EDT
DTSTART:20170312T020000
TZOFFSETFROM:-0500
TZOFFSETTO:-0400
RDATE:20180311T020000
RDATE:20190310T020000
END:DAYLIGHT
END:VTIMEZONE
BEGIN:VEVENT
UID:e1048ada-b1f3-47d6-b796-b6d06730b5c6
DTSTAMP:20260423T165347Z
DESCRIPTION:New Employee Orientation
DTSTART;TZID=America/New_York:20171129T100000
DTEND;TZID=America/New_York:20171129T160000
LOCATION:141 Park Street
SUMMARY:Orientation
END:VEVENT
END:VCALENDAR
