BEGIN:VCALENDAR
VERSION:2.0
PRODID:-//www.arcnbc.org//NONSGML kigkonsult.se iCalcreator 2.30.10//
CALSCALE:GREGORIAN
METHOD:PUBLISH
UID:3ffdb621-5b8f-44ca-bc7b-a253ec67ff41
X-WR-CALDESC:
X-WR-RELCALID:2f2154e259bbde55ea83d067989fd5f7
X-WR-TIMEZONE:America/New_York
BEGIN:VTIMEZONE
TZID:America/New_York
BEGIN:STANDARD
TZNAME:EST
DTSTART:20171105T020000
TZOFFSETFROM:-0400
TZOFFSETTO:-0500
RDATE:20181104T020000
END:STANDARD
BEGIN:DAYLIGHT
TZNAME:EDT
DTSTART:20170312T020000
TZOFFSETFROM:-0500
TZOFFSETTO:-0400
RDATE:20180311T020000
RDATE:20190310T020000
END:DAYLIGHT
END:VTIMEZONE
BEGIN:VEVENT
UID:af44c847-42c8-4e14-86e0-4affafcccdb1
DTSTAMP:20260423T165242Z
DESCRIPTION:
DTSTART;TZID=America/New_York:20171130T090000
DTEND;TZID=America/New_York:20171130T153000
LOCATION:
SUMMARY:NCI
END:VEVENT
END:VCALENDAR
