BEGIN:VCALENDAR
VERSION:2.0
PRODID:-//www.arcnbc.org//NONSGML kigkonsult.se iCalcreator 2.30.10//
CALSCALE:GREGORIAN
METHOD:PUBLISH
UID:01405722-82fd-4d4c-bafb-afaf92fcc9c6
X-WR-CALDESC:
X-WR-RELCALID:a55dcf48c09105a74ae5c5a3d7338e86
X-WR-TIMEZONE:America/New_York
BEGIN:VTIMEZONE
TZID:America/New_York
BEGIN:STANDARD
TZNAME:EST
DTSTART:20171105T020000
TZOFFSETFROM:-0400
TZOFFSETTO:-0500
RDATE:20181104T020000
END:STANDARD
BEGIN:DAYLIGHT
TZNAME:EDT
DTSTART:20170312T020000
TZOFFSETFROM:-0500
TZOFFSETTO:-0400
RDATE:20180311T020000
RDATE:20190310T020000
END:DAYLIGHT
END:VTIMEZONE
BEGIN:VEVENT
UID:68f961cf-616b-4722-b8f2-1b90356705de
DTSTAMP:20260423T165746Z
DESCRIPTION:
DTSTART;TZID=America/New_York:20171130T170000
DTEND;TZID=America/New_York:20171130T190000
LOCATION:proAbility office\, 25 Thurber Blvd. Smithfield\, RI
SUMMARY:proAbility staff First Aid/CPR Refresher
END:VEVENT
END:VCALENDAR
