BEGIN:VCALENDAR
VERSION:2.0
PRODID:-//www.arcnbc.org//NONSGML kigkonsult.se iCalcreator 2.30.10//
CALSCALE:GREGORIAN
METHOD:PUBLISH
UID:d10625b5-ee04-4cc9-966b-703d2b0d81b0
X-WR-CALDESC:
X-WR-RELCALID:e2a33a133ac1d476e6494e76d74aad15
X-WR-TIMEZONE:America/New_York
BEGIN:VTIMEZONE
TZID:America/New_York
BEGIN:STANDARD
TZNAME:EST
DTSTART:20171105T020000
TZOFFSETFROM:-0400
TZOFFSETTO:-0500
RDATE:20181104T020000
END:STANDARD
BEGIN:DAYLIGHT
TZNAME:EDT
DTSTART:20170312T020000
TZOFFSETFROM:-0500
TZOFFSETTO:-0400
RDATE:20180311T020000
RDATE:20190310T020000
END:DAYLIGHT
END:VTIMEZONE
BEGIN:VEVENT
UID:cfb631cf-3cce-4772-a182-6234f51f4314
DTSTAMP:20260423T165920Z
DESCRIPTION:
DTSTART;TZID=America/New_York:20171202T120000
DTEND;TZID=America/New_York:20171202T150000
LOCATION:St. Theresa's Church- Attleboro
SUMMARY:Arc Annual Holiday Party
END:VEVENT
END:VCALENDAR
