BEGIN:VCALENDAR
VERSION:2.0
PRODID:-//www.arcnbc.org//NONSGML kigkonsult.se iCalcreator 2.30.10//
CALSCALE:GREGORIAN
METHOD:PUBLISH
UID:ba9cccd5-1479-4c63-a3e8-1b825f651a72
X-WR-CALDESC:
X-WR-RELCALID:f1d19af36833ebef59c464566688038d
X-WR-TIMEZONE:America/New_York
BEGIN:VTIMEZONE
TZID:America/New_York
BEGIN:STANDARD
TZNAME:EST
DTSTART:20171105T020000
TZOFFSETFROM:-0400
TZOFFSETTO:-0500
RDATE:20181104T020000
END:STANDARD
BEGIN:DAYLIGHT
TZNAME:EDT
DTSTART:20170312T020000
TZOFFSETFROM:-0500
TZOFFSETTO:-0400
RDATE:20180311T020000
RDATE:20190310T020000
END:DAYLIGHT
END:VTIMEZONE
BEGIN:VEVENT
UID:75f8f57a-165e-41c1-90a5-cd32c29d0d46
DTSTAMP:20260423T170111Z
DESCRIPTION:
DTSTART;TZID=America/New_York:20171204T150000
DTEND;TZID=America/New_York:20171204T170000
LOCATION:TARC
SUMMARY:Chair Yoga
END:VEVENT
END:VCALENDAR
