BEGIN:VCALENDAR
VERSION:2.0
PRODID:-//www.arcnbc.org//NONSGML kigkonsult.se iCalcreator 2.30.10//
CALSCALE:GREGORIAN
METHOD:PUBLISH
UID:d5472da8-a6b4-4c95-a145-d5cda2639eaa
X-WR-CALDESC:New Employee Orientation
X-WR-RELCALID:d669999ce372a36eb7783ceb839a9f0d
X-WR-TIMEZONE:America/New_York
BEGIN:VTIMEZONE
TZID:America/New_York
BEGIN:STANDARD
TZNAME:EST
DTSTART:20171105T020000
TZOFFSETFROM:-0400
TZOFFSETTO:-0500
RDATE:20181104T020000
END:STANDARD
BEGIN:DAYLIGHT
TZNAME:EDT
DTSTART:20170312T020000
TZOFFSETFROM:-0500
TZOFFSETTO:-0400
RDATE:20180311T020000
RDATE:20190310T020000
END:DAYLIGHT
END:VTIMEZONE
BEGIN:VEVENT
UID:ecf38f43-40fa-40b7-a784-d44820ba4fa7
DTSTAMP:20260423T165348Z
DESCRIPTION:New Employee Orientation
DTSTART;TZID=America/New_York:20171204T100000
DTEND;TZID=America/New_York:20171204T160000
LOCATION:141 Park Street
SUMMARY:Orientation
END:VEVENT
END:VCALENDAR
