BEGIN:VCALENDAR
VERSION:2.0
PRODID:-//www.arcnbc.org//NONSGML kigkonsult.se iCalcreator 2.30.10//
CALSCALE:GREGORIAN
METHOD:PUBLISH
UID:8e2e09c6-bab2-474b-8d5a-51c8279a3f71
X-WR-CALDESC:
X-WR-RELCALID:af533261886d39055a8dc92f4c096753
X-WR-TIMEZONE:America/New_York
BEGIN:VTIMEZONE
TZID:America/New_York
BEGIN:STANDARD
TZNAME:EST
DTSTART:20171105T020000
TZOFFSETFROM:-0400
TZOFFSETTO:-0500
RDATE:20181104T020000
END:STANDARD
BEGIN:DAYLIGHT
TZNAME:EDT
DTSTART:20170312T020000
TZOFFSETFROM:-0500
TZOFFSETTO:-0400
RDATE:20180311T020000
RDATE:20190310T020000
END:DAYLIGHT
END:VTIMEZONE
BEGIN:VEVENT
UID:6561f5f3-fd6b-4b31-ad16-2c16fe1e52ce
DTSTAMP:20260423T165920Z
DESCRIPTION:
DTSTART;TZID=America/New_York:20171205T173000
DTEND;TZID=America/New_York:20171205T183000
LOCATION:TARC
SUMMARY:Zumba
END:VEVENT
END:VCALENDAR
