BEGIN:VCALENDAR
VERSION:2.0
PRODID:-//www.arcnbc.org//NONSGML kigkonsult.se iCalcreator 2.30.10//
CALSCALE:GREGORIAN
METHOD:PUBLISH
UID:f0aa29d4-354f-480d-be50-14a885ca327a
X-WR-CALDESC:
X-WR-RELCALID:88e9d573bb6b3b6f6f19d777cdca2ca2
X-WR-TIMEZONE:America/New_York
BEGIN:VTIMEZONE
TZID:America/New_York
BEGIN:STANDARD
TZNAME:EST
DTSTART:20171105T020000
TZOFFSETFROM:-0400
TZOFFSETTO:-0500
RDATE:20181104T020000
END:STANDARD
BEGIN:DAYLIGHT
TZNAME:EDT
DTSTART:20170312T020000
TZOFFSETFROM:-0500
TZOFFSETTO:-0400
RDATE:20180311T020000
RDATE:20190310T020000
END:DAYLIGHT
END:VTIMEZONE
BEGIN:VEVENT
UID:77f7b034-4139-49fa-a926-cc4fa35f5b82
DTSTAMP:20260423T182841Z
DESCRIPTION:
DTSTART;TZID=America/New_York:20171205T180000
DTEND;TZID=America/New_York:20171205T213000
LOCATION:Arc Attleboro
SUMMARY:Dinning with the Arc
END:VEVENT
END:VCALENDAR
