BEGIN:VCALENDAR
VERSION:2.0
PRODID:-//www.arcnbc.org//NONSGML kigkonsult.se iCalcreator 2.30.10//
CALSCALE:GREGORIAN
METHOD:PUBLISH
UID:c69509ec-e156-4bc2-b276-e7c2efe95e66
X-WR-CALDESC:
X-WR-RELCALID:c1503180c11e11e72b40fa8778ec1de3
X-WR-TIMEZONE:America/New_York
BEGIN:VTIMEZONE
TZID:America/New_York
BEGIN:STANDARD
TZNAME:EST
DTSTART:20171105T020000
TZOFFSETFROM:-0400
TZOFFSETTO:-0500
RDATE:20181104T020000
END:STANDARD
BEGIN:DAYLIGHT
TZNAME:EDT
DTSTART:20170312T020000
TZOFFSETFROM:-0500
TZOFFSETTO:-0400
RDATE:20180311T020000
RDATE:20190310T020000
END:DAYLIGHT
END:VTIMEZONE
BEGIN:VEVENT
UID:30473248-c2b9-49b1-8309-5e5164533be4
DTSTAMP:20260423T165747Z
DESCRIPTION:
DTSTART;TZID=America/New_York:20171206T160000
DTEND;TZID=America/New_York:20171206T190000
LOCATION:Arc Attleboro/ East Taunton Kenpo Karate
SUMMARY:Karate
END:VEVENT
END:VCALENDAR
