BEGIN:VCALENDAR
VERSION:2.0
PRODID:-//www.arcnbc.org//NONSGML kigkonsult.se iCalcreator 2.30.10//
CALSCALE:GREGORIAN
METHOD:PUBLISH
UID:57573853-e7e1-4ae8-9ecb-0c28e08c5f6a
X-WR-CALDESC:
X-WR-RELCALID:9f6f559c1fe9503e2b9027e4711037ca
X-WR-TIMEZONE:America/New_York
BEGIN:VTIMEZONE
TZID:America/New_York
BEGIN:STANDARD
TZNAME:EST
DTSTART:20171105T020000
TZOFFSETFROM:-0400
TZOFFSETTO:-0500
RDATE:20181104T020000
END:STANDARD
BEGIN:DAYLIGHT
TZNAME:EDT
DTSTART:20170312T020000
TZOFFSETFROM:-0500
TZOFFSETTO:-0400
RDATE:20180311T020000
RDATE:20190310T020000
END:DAYLIGHT
END:VTIMEZONE
BEGIN:VEVENT
UID:d8bbf88e-c0bb-41ef-930e-0dca4d8b4242
DTSTAMP:20260423T165954Z
DESCRIPTION:
DTSTART;TZID=America/New_York:20171208T190000
DTEND;TZID=America/New_York:20171208T220000
LOCATION:Bates Masonic Lodge- Attleboro
SUMMARY:'A Christmas Carol' Show
END:VEVENT
END:VCALENDAR
