BEGIN:VCALENDAR
VERSION:2.0
PRODID:-//www.arcnbc.org//NONSGML kigkonsult.se iCalcreator 2.30.10//
CALSCALE:GREGORIAN
METHOD:PUBLISH
UID:f131e52f-0fbb-4066-9d2f-db4b70f4e452
X-WR-CALDESC:
X-WR-RELCALID:a2bde238d990254ace930f9479c44c6c
X-WR-TIMEZONE:America/New_York
BEGIN:VTIMEZONE
TZID:America/New_York
BEGIN:STANDARD
TZNAME:EST
DTSTART:20171105T020000
TZOFFSETFROM:-0400
TZOFFSETTO:-0500
RDATE:20181104T020000
END:STANDARD
BEGIN:DAYLIGHT
TZNAME:EDT
DTSTART:20170312T020000
TZOFFSETFROM:-0500
TZOFFSETTO:-0400
RDATE:20180311T020000
RDATE:20190310T020000
END:DAYLIGHT
END:VTIMEZONE
BEGIN:VEVENT
UID:7d747544-9108-41f0-91ec-7dc6ab856cdc
DTSTAMP:20260423T170111Z
DESCRIPTION:
DTSTART;TZID=America/New_York:20171211T150000
DTEND;TZID=America/New_York:20171211T170000
LOCATION:TARC
SUMMARY:Chair Yoga
END:VEVENT
END:VCALENDAR
