BEGIN:VCALENDAR
VERSION:2.0
PRODID:-//www.arcnbc.org//NONSGML kigkonsult.se iCalcreator 2.30.10//
CALSCALE:GREGORIAN
METHOD:PUBLISH
UID:41789975-ce40-4867-a6cf-9cbb89f75fb2
X-WR-CALDESC:
X-WR-RELCALID:9e9d4c3376f214cdb65fbffabcc10adf
X-WR-TIMEZONE:America/New_York
BEGIN:VTIMEZONE
TZID:America/New_York
BEGIN:STANDARD
TZNAME:EST
DTSTART:20171105T020000
TZOFFSETFROM:-0400
TZOFFSETTO:-0500
RDATE:20181104T020000
END:STANDARD
BEGIN:DAYLIGHT
TZNAME:EDT
DTSTART:20170312T020000
TZOFFSETFROM:-0500
TZOFFSETTO:-0400
RDATE:20180311T020000
RDATE:20190310T020000
END:DAYLIGHT
END:VTIMEZONE
BEGIN:VEVENT
UID:76b7f7ad-b0f3-4393-b75d-760eb7b7d5ca
DTSTAMP:20260423T165806Z
DESCRIPTION:
DTSTART;TZID=America/New_York:20171213T160000
DTEND;TZID=America/New_York:20171213T190000
LOCATION:Arc Attleboro/ East Taunton Kenpo Karate
SUMMARY:Karate
END:VEVENT
END:VCALENDAR
