BEGIN:VCALENDAR
VERSION:2.0
PRODID:-//www.arcnbc.org//NONSGML kigkonsult.se iCalcreator 2.30.10//
CALSCALE:GREGORIAN
METHOD:PUBLISH
UID:ad18ddcc-38fb-4d36-aae6-8f7ef5485a58
X-WR-CALDESC:
X-WR-RELCALID:5edae1b372bcb40ea68f138399bae527
X-WR-TIMEZONE:America/New_York
BEGIN:VTIMEZONE
TZID:America/New_York
BEGIN:STANDARD
TZNAME:EST
DTSTART:20171105T020000
TZOFFSETFROM:-0400
TZOFFSETTO:-0500
RDATE:20181104T020000
END:STANDARD
BEGIN:DAYLIGHT
TZNAME:EDT
DTSTART:20170312T020000
TZOFFSETFROM:-0500
TZOFFSETTO:-0400
RDATE:20180311T020000
RDATE:20190310T020000
END:DAYLIGHT
END:VTIMEZONE
BEGIN:VEVENT
UID:dc9aa98d-47bb-4f5d-b53b-c12a6073caed
DTSTAMP:20260423T170112Z
DESCRIPTION:
DTSTART;TZID=America/New_York:20171214T173000
DTEND;TZID=America/New_York:20171214T203000
LOCATION:PACC- Taunton
SUMMARY:Ted and Fran's Christmas Party
END:VEVENT
END:VCALENDAR
