BEGIN:VCALENDAR
VERSION:2.0
PRODID:-//www.arcnbc.org//NONSGML kigkonsult.se iCalcreator 2.30.10//
CALSCALE:GREGORIAN
METHOD:PUBLISH
UID:029832fc-b5b9-4fc3-9aff-d56552ba5433
X-WR-CALDESC:
X-WR-RELCALID:c1bed34d01fe39433a31c0b7eca57653
X-WR-TIMEZONE:America/New_York
BEGIN:VTIMEZONE
TZID:America/New_York
BEGIN:STANDARD
TZNAME:EST
DTSTART:20171105T020000
TZOFFSETFROM:-0400
TZOFFSETTO:-0500
RDATE:20181104T020000
END:STANDARD
BEGIN:DAYLIGHT
TZNAME:EDT
DTSTART:20170312T020000
TZOFFSETFROM:-0500
TZOFFSETTO:-0400
RDATE:20180311T020000
RDATE:20190310T020000
END:DAYLIGHT
END:VTIMEZONE
BEGIN:VEVENT
UID:3bb921bf-dd04-4907-967e-d26a38c8ec8b
DTSTAMP:20260423T165953Z
DESCRIPTION:
DTSTART;TZID=America/New_York:20171215T190000
DTEND;TZID=America/New_York:20171215T210000
LOCATION:Attleboro YMCA- Pleasant St. Branch
SUMMARY:GO Night
END:VEVENT
END:VCALENDAR
