BEGIN:VCALENDAR
VERSION:2.0
PRODID:-//www.arcnbc.org//NONSGML kigkonsult.se iCalcreator 2.30.10//
CALSCALE:GREGORIAN
METHOD:PUBLISH
UID:6b70f9a6-7a83-4622-9338-4ebf6fa87dc3
X-WR-CALDESC:
X-WR-RELCALID:e83082965765e5e5feee28eb10193362
X-WR-TIMEZONE:America/New_York
BEGIN:VTIMEZONE
TZID:America/New_York
BEGIN:STANDARD
TZNAME:EST
DTSTART:20171105T020000
TZOFFSETFROM:-0400
TZOFFSETTO:-0500
RDATE:20181104T020000
END:STANDARD
BEGIN:DAYLIGHT
TZNAME:EDT
DTSTART:20170312T020000
TZOFFSETFROM:-0500
TZOFFSETTO:-0400
RDATE:20180311T020000
RDATE:20190310T020000
END:DAYLIGHT
END:VTIMEZONE
BEGIN:VEVENT
UID:9df77bcc-9132-454e-8ecc-f4d754f1c5e6
DTSTAMP:20260423T165745Z
DESCRIPTION:
DTSTART;TZID=America/New_York:20171216T160000
DTEND;TZID=America/New_York:20171216T203000
LOCATION:Arc Attleboro
SUMMARY:Holiday Light Tour
END:VEVENT
END:VCALENDAR
