BEGIN:VCALENDAR
VERSION:2.0
PRODID:-//www.arcnbc.org//NONSGML kigkonsult.se iCalcreator 2.30.10//
CALSCALE:GREGORIAN
METHOD:PUBLISH
UID:8ff0fd82-a331-4c4b-b756-b7d8007d115d
X-WR-CALDESC:
X-WR-RELCALID:f466f8caf3f5e0d06b9c08bdb943f603
X-WR-TIMEZONE:America/New_York
BEGIN:VTIMEZONE
TZID:America/New_York
BEGIN:STANDARD
TZNAME:EST
DTSTART:20171105T020000
TZOFFSETFROM:-0400
TZOFFSETTO:-0500
RDATE:20181104T020000
END:STANDARD
BEGIN:DAYLIGHT
TZNAME:EDT
DTSTART:20170312T020000
TZOFFSETFROM:-0500
TZOFFSETTO:-0400
RDATE:20180311T020000
RDATE:20190310T020000
END:DAYLIGHT
END:VTIMEZONE
BEGIN:VEVENT
UID:6ecc3c6d-563b-4bee-8f38-9cfd700ccccd
DTSTAMP:20260423T170214Z
DESCRIPTION:
DTSTART;TZID=America/New_York:20171218T150000
DTEND;TZID=America/New_York:20171218T170000
LOCATION:TARC
SUMMARY:Chair Yoga
END:VEVENT
END:VCALENDAR
