BEGIN:VCALENDAR
VERSION:2.0
PRODID:-//www.arcnbc.org//NONSGML kigkonsult.se iCalcreator 2.30.10//
CALSCALE:GREGORIAN
METHOD:PUBLISH
UID:da13f8a0-6b0b-4bb2-8790-4d58a65e48df
X-WR-CALDESC:New Employee Orientation
X-WR-RELCALID:75f1f5fde4ec1e19c9444ead140352ce
X-WR-TIMEZONE:America/New_York
BEGIN:VTIMEZONE
TZID:America/New_York
BEGIN:STANDARD
TZNAME:EST
DTSTART:20171105T020000
TZOFFSETFROM:-0400
TZOFFSETTO:-0500
RDATE:20181104T020000
END:STANDARD
BEGIN:DAYLIGHT
TZNAME:EDT
DTSTART:20170312T020000
TZOFFSETFROM:-0500
TZOFFSETTO:-0400
RDATE:20180311T020000
RDATE:20190310T020000
END:DAYLIGHT
END:VTIMEZONE
BEGIN:VEVENT
UID:2d2986c9-500a-472a-be1b-f9e3b0d3106a
DTSTAMP:20260423T165402Z
DESCRIPTION:New Employee Orientation
DTSTART;TZID=America/New_York:20171218T100000
DTEND;TZID=America/New_York:20171218T160000
LOCATION:141 Park Street
SUMMARY:Orientation
END:VEVENT
END:VCALENDAR
