BEGIN:VCALENDAR
VERSION:2.0
PRODID:-//www.arcnbc.org//NONSGML kigkonsult.se iCalcreator 2.30.10//
CALSCALE:GREGORIAN
METHOD:PUBLISH
UID:b3e87ef7-728d-4447-bfb0-30247eedcd4c
X-WR-CALDESC:
X-WR-RELCALID:edb299d716ffacb9067cbabbd5322b78
X-WR-TIMEZONE:America/New_York
BEGIN:VTIMEZONE
TZID:America/New_York
BEGIN:STANDARD
TZNAME:EST
DTSTART:20171105T020000
TZOFFSETFROM:-0400
TZOFFSETTO:-0500
RDATE:20181104T020000
END:STANDARD
BEGIN:DAYLIGHT
TZNAME:EDT
DTSTART:20170312T020000
TZOFFSETFROM:-0500
TZOFFSETTO:-0400
RDATE:20180311T020000
RDATE:20190310T020000
END:DAYLIGHT
END:VTIMEZONE
BEGIN:VEVENT
UID:ad8bd62f-3ed6-4be9-b73b-5fdbb6c67c70
DTSTAMP:20260423T165637Z
DESCRIPTION:
DTSTART;TZID=America/New_York:20171218T173000
DTEND;TZID=America/New_York:20171218T183000
LOCATION:Arc Attleboro
SUMMARY:Self Advocacy Group
END:VEVENT
END:VCALENDAR
