BEGIN:VCALENDAR
VERSION:2.0
PRODID:-//www.arcnbc.org//NONSGML kigkonsult.se iCalcreator 2.30.10//
CALSCALE:GREGORIAN
METHOD:PUBLISH
UID:d1a5591d-c30f-4334-a1be-48123932a03b
X-WR-CALDESC:
X-WR-RELCALID:0591bc984124bd24afbc2907d5c66938
X-WR-TIMEZONE:America/New_York
BEGIN:VTIMEZONE
TZID:America/New_York
BEGIN:STANDARD
TZNAME:EST
DTSTART:20171105T020000
TZOFFSETFROM:-0400
TZOFFSETTO:-0500
RDATE:20181104T020000
END:STANDARD
BEGIN:DAYLIGHT
TZNAME:EDT
DTSTART:20170312T020000
TZOFFSETFROM:-0500
TZOFFSETTO:-0400
RDATE:20180311T020000
RDATE:20190310T020000
END:DAYLIGHT
END:VTIMEZONE
BEGIN:VEVENT
UID:d85e4d3b-b22d-4e3f-b994-da90a829071c
DTSTAMP:20260423T165822Z
DESCRIPTION:
DTSTART;TZID=America/New_York:20171219T173000
DTEND;TZID=America/New_York:20171219T183000
LOCATION:TARC
SUMMARY:Zumba
END:VEVENT
END:VCALENDAR
