BEGIN:VCALENDAR
VERSION:2.0
PRODID:-//www.arcnbc.org//NONSGML kigkonsult.se iCalcreator 2.30.10//
CALSCALE:GREGORIAN
METHOD:PUBLISH
UID:4f35d24c-febd-4a0e-9b77-a5c78184624c
X-WR-CALDESC:
X-WR-RELCALID:4015fb2f36684ffd5afb68ae3e9fff18
X-WR-TIMEZONE:America/New_York
BEGIN:VTIMEZONE
TZID:America/New_York
BEGIN:STANDARD
TZNAME:EST
DTSTART:20171105T020000
TZOFFSETFROM:-0400
TZOFFSETTO:-0500
RDATE:20181104T020000
END:STANDARD
BEGIN:DAYLIGHT
TZNAME:EDT
DTSTART:20170312T020000
TZOFFSETFROM:-0500
TZOFFSETTO:-0400
RDATE:20180311T020000
RDATE:20190310T020000
END:DAYLIGHT
END:VTIMEZONE
BEGIN:VEVENT
UID:8acfb9d0-4ccd-4491-a264-33909f4bb8e2
DTSTAMP:20260423T165644Z
DESCRIPTION:
DTSTART;TZID=America/New_York:20171219T180000
DTEND;TZID=America/New_York:20171219T200000
LOCATION:E. Providence Lanes
SUMMARY:Bowling
END:VEVENT
END:VCALENDAR
