BEGIN:VCALENDAR
VERSION:2.0
PRODID:-//www.arcnbc.org//NONSGML kigkonsult.se iCalcreator 2.30.10//
CALSCALE:GREGORIAN
METHOD:PUBLISH
UID:baa4f20d-1275-420a-a6b3-1789b7a3176c
X-WR-CALDESC:Non- Violent Crisis Intervention (NCI)
X-WR-RELCALID:646805aae63341c0d0aba3cf38c9cdc8
X-WR-TIMEZONE:America/New_York
BEGIN:VTIMEZONE
TZID:America/New_York
BEGIN:STANDARD
TZNAME:EST
DTSTART:20171105T020000
TZOFFSETFROM:-0400
TZOFFSETTO:-0500
RDATE:20181104T020000
END:STANDARD
BEGIN:DAYLIGHT
TZNAME:EDT
DTSTART:20170312T020000
TZOFFSETFROM:-0500
TZOFFSETTO:-0400
RDATE:20180311T020000
RDATE:20190310T020000
END:DAYLIGHT
END:VTIMEZONE
BEGIN:VEVENT
UID:f098dbd0-0431-4016-a093-f8b328d53f66
DTSTAMP:20260423T165359Z
DESCRIPTION:Non- Violent Crisis Intervention (NCI)
DTSTART;TZID=America/New_York:20171219T090000
DTEND;TZID=America/New_York:20171219T160000
LOCATION:proAbility office
SUMMARY:NCI
END:VEVENT
END:VCALENDAR
