BEGIN:VCALENDAR
VERSION:2.0
PRODID:-//www.arcnbc.org//NONSGML kigkonsult.se iCalcreator 2.30.10//
CALSCALE:GREGORIAN
METHOD:PUBLISH
UID:3643e2f3-6d3e-4f65-a900-c79e0416868a
X-WR-CALDESC:
X-WR-RELCALID:b4a922ff656e33ce1f3b891c10b71314
X-WR-TIMEZONE:America/New_York
BEGIN:VTIMEZONE
TZID:America/New_York
BEGIN:STANDARD
TZNAME:EST
DTSTART:20171105T020000
TZOFFSETFROM:-0400
TZOFFSETTO:-0500
RDATE:20181104T020000
END:STANDARD
BEGIN:DAYLIGHT
TZNAME:EDT
DTSTART:20170312T020000
TZOFFSETFROM:-0500
TZOFFSETTO:-0400
RDATE:20180311T020000
RDATE:20190310T020000
END:DAYLIGHT
END:VTIMEZONE
BEGIN:VEVENT
UID:620035fa-6fd0-4f57-abcd-78d1f78fcc56
DTSTAMP:20260423T165816Z
DESCRIPTION:
DTSTART;TZID=America/New_York:20171220T150000
DTEND;TZID=America/New_York:20171220T170000
LOCATION:TARC
SUMMARY:Bingo
END:VEVENT
END:VCALENDAR
