BEGIN:VCALENDAR
VERSION:2.0
PRODID:-//www.arcnbc.org//NONSGML kigkonsult.se iCalcreator 2.30.10//
CALSCALE:GREGORIAN
METHOD:PUBLISH
UID:ce3a3084-d0d9-44cc-b6b6-0a4904c6ea30
X-WR-CALDESC:
X-WR-RELCALID:3e95e875ce5c13cfafc03e2a596e6f70
X-WR-TIMEZONE:America/New_York
BEGIN:VTIMEZONE
TZID:America/New_York
BEGIN:STANDARD
TZNAME:EST
DTSTART:20171105T020000
TZOFFSETFROM:-0400
TZOFFSETTO:-0500
RDATE:20181104T020000
END:STANDARD
BEGIN:DAYLIGHT
TZNAME:EDT
DTSTART:20170312T020000
TZOFFSETFROM:-0500
TZOFFSETTO:-0400
RDATE:20180311T020000
RDATE:20190310T020000
END:DAYLIGHT
END:VTIMEZONE
BEGIN:VEVENT
UID:4414ec79-234f-4004-9006-8437a9b0d6f6
DTSTAMP:20260423T165646Z
DESCRIPTION:
DTSTART;TZID=America/New_York:20171220T160000
DTEND;TZID=America/New_York:20171220T190000
LOCATION:Arc Attleboro/ East Taunton Kenpo Karate
SUMMARY:Karate
END:VEVENT
END:VCALENDAR
