BEGIN:VCALENDAR
VERSION:2.0
PRODID:-//www.arcnbc.org//NONSGML kigkonsult.se iCalcreator 2.30.10//
CALSCALE:GREGORIAN
METHOD:PUBLISH
UID:e16cbc19-df30-40a2-84f2-223ad7f6a5fb
X-WR-CALDESC:
X-WR-RELCALID:1c626a2cb3c074b5802b38b02fdf9c80
X-WR-TIMEZONE:America/New_York
BEGIN:VTIMEZONE
TZID:America/New_York
BEGIN:STANDARD
TZNAME:EST
DTSTART:20171105T020000
TZOFFSETFROM:-0400
TZOFFSETTO:-0500
RDATE:20181104T020000
END:STANDARD
BEGIN:DAYLIGHT
TZNAME:EDT
DTSTART:20170312T020000
TZOFFSETFROM:-0500
TZOFFSETTO:-0400
RDATE:20180311T020000
RDATE:20190310T020000
END:DAYLIGHT
END:VTIMEZONE
BEGIN:VEVENT
UID:4608b5fa-d8f3-4f14-aa2d-9b6ffa7c8a28
DTSTAMP:20260423T165519Z
DESCRIPTION:
DTSTART;TZID=America/New_York:20171228T190000
DTEND;TZID=America/New_York:20171228T210000
LOCATION:PACC- Taunton
SUMMARY:Fran's Dance
END:VEVENT
END:VCALENDAR
