BEGIN:VCALENDAR
VERSION:2.0
PRODID:-//www.arcnbc.org//NONSGML kigkonsult.se iCalcreator 2.30.10//
CALSCALE:GREGORIAN
METHOD:PUBLISH
UID:31812204-defb-4e02-afd7-fb48120692c4
X-WR-CALDESC:
X-WR-RELCALID:43b685342efa3aaa4c0328c9d98505b5
X-WR-TIMEZONE:America/New_York
BEGIN:VTIMEZONE
TZID:America/New_York
BEGIN:STANDARD
TZNAME:EST
DTSTART:20171105T020000
TZOFFSETFROM:-0400
TZOFFSETTO:-0500
RDATE:20181104T020000
END:STANDARD
BEGIN:DAYLIGHT
TZNAME:EDT
DTSTART:20170312T020000
TZOFFSETFROM:-0500
TZOFFSETTO:-0400
RDATE:20180311T020000
RDATE:20190310T020000
END:DAYLIGHT
END:VTIMEZONE
BEGIN:VEVENT
UID:f012988f-c516-416e-9174-de8bfec311ed
DTSTAMP:20260423T133224Z
DESCRIPTION:
DTSTART;TZID=America/New_York:20180104T090000
DTEND;TZID=America/New_York:20180104T160000
LOCATION:Attleboro office
SUMMARY:NCI\, Attleboro office
END:VEVENT
END:VCALENDAR
