BEGIN:VCALENDAR
VERSION:2.0
PRODID:-//www.arcnbc.org//NONSGML kigkonsult.se iCalcreator 2.30.10//
CALSCALE:GREGORIAN
METHOD:PUBLISH
UID:6d0905fd-a86b-413b-8f8d-883fff8b4b83
X-WR-CALDESC:
X-WR-RELCALID:3aae3937bd8aa6eb5a5846fc540271c6
X-WR-TIMEZONE:America/New_York
BEGIN:VTIMEZONE
TZID:America/New_York
BEGIN:STANDARD
TZNAME:EST
DTSTART:20171105T020000
TZOFFSETFROM:-0400
TZOFFSETTO:-0500
RDATE:20181104T020000
END:STANDARD
BEGIN:DAYLIGHT
TZNAME:EDT
DTSTART:20170312T020000
TZOFFSETFROM:-0500
TZOFFSETTO:-0400
RDATE:20180311T020000
RDATE:20190310T020000
END:DAYLIGHT
END:VTIMEZONE
BEGIN:VEVENT
UID:187b60dc-6496-4fae-b087-6f3150083e9d
DTSTAMP:20260423T133043Z
DESCRIPTION:
DTSTART;TZID=America/New_York:20180108T150000
DTEND;TZID=America/New_York:20180108T170000
LOCATION:TARC
SUMMARY:Games
END:VEVENT
END:VCALENDAR
