BEGIN:VCALENDAR
VERSION:2.0
PRODID:-//www.arcnbc.org//NONSGML kigkonsult.se iCalcreator 2.30.10//
CALSCALE:GREGORIAN
METHOD:PUBLISH
UID:2865832e-b2df-4af2-bf3c-7a4d0349004e
X-WR-CALDESC:
X-WR-RELCALID:060de1a1f583abcbcfb1a5ce3c820cb3
X-WR-TIMEZONE:America/New_York
BEGIN:VTIMEZONE
TZID:America/New_York
BEGIN:STANDARD
TZNAME:EST
DTSTART:20171105T020000
TZOFFSETFROM:-0400
TZOFFSETTO:-0500
RDATE:20181104T020000
END:STANDARD
BEGIN:DAYLIGHT
TZNAME:EDT
DTSTART:20170312T020000
TZOFFSETFROM:-0500
TZOFFSETTO:-0400
RDATE:20180311T020000
RDATE:20190310T020000
END:DAYLIGHT
END:VTIMEZONE
BEGIN:VEVENT
UID:26d37af9-ea10-4d8a-bc9f-d1bc6bf2cabe
DTSTAMP:20260423T133143Z
DESCRIPTION:
DTSTART;TZID=America/New_York:20180109T150000
DTEND;TZID=America/New_York:20180109T170000
LOCATION:TARC
SUMMARY:Wii Games
END:VEVENT
END:VCALENDAR
