BEGIN:VCALENDAR
VERSION:2.0
PRODID:-//www.arcnbc.org//NONSGML kigkonsult.se iCalcreator 2.30.10//
CALSCALE:GREGORIAN
METHOD:PUBLISH
UID:eb363416-f710-4a81-aaaf-1fea0d715568
X-WR-CALDESC:
X-WR-RELCALID:36816c1d0e0a450dd367884cfcc9f2e2
X-WR-TIMEZONE:America/New_York
BEGIN:VTIMEZONE
TZID:America/New_York
BEGIN:STANDARD
TZNAME:EST
DTSTART:20171105T020000
TZOFFSETFROM:-0400
TZOFFSETTO:-0500
RDATE:20181104T020000
END:STANDARD
BEGIN:DAYLIGHT
TZNAME:EDT
DTSTART:20170312T020000
TZOFFSETFROM:-0500
TZOFFSETTO:-0400
RDATE:20180311T020000
RDATE:20190310T020000
END:DAYLIGHT
END:VTIMEZONE
BEGIN:VEVENT
UID:c709a585-5832-4303-9505-e80cc9815178
DTSTAMP:20260423T133809Z
DESCRIPTION:
DTSTART;TZID=America/New_York:20180110T170000
DTEND;TZID=America/New_York:20180110T180000
LOCATION:Arc Attleboro/ E. Taunton Kenpo Karate
SUMMARY:Karate Class
END:VEVENT
END:VCALENDAR
