BEGIN:VCALENDAR
VERSION:2.0
PRODID:-//www.arcnbc.org//NONSGML kigkonsult.se iCalcreator 2.30.10//
CALSCALE:GREGORIAN
METHOD:PUBLISH
UID:459012f1-36bc-48cf-92e5-1ca56a6ee1ce
X-WR-CALDESC:
X-WR-RELCALID:10480fc84eeb49911876d5bc71b8b264
X-WR-TIMEZONE:America/New_York
BEGIN:VTIMEZONE
TZID:America/New_York
BEGIN:STANDARD
TZNAME:EST
DTSTART:20171105T020000
TZOFFSETFROM:-0400
TZOFFSETTO:-0500
RDATE:20181104T020000
END:STANDARD
BEGIN:DAYLIGHT
TZNAME:EDT
DTSTART:20170312T020000
TZOFFSETFROM:-0500
TZOFFSETTO:-0400
RDATE:20180311T020000
RDATE:20190310T020000
END:DAYLIGHT
END:VTIMEZONE
BEGIN:VEVENT
UID:47c2209d-04b1-4e13-bc50-be43efcca105
DTSTAMP:20260423T133226Z
DESCRIPTION:
DTSTART;TZID=America/New_York:20180112T090000
DTEND;TZID=America/New_York:20180112T150000
LOCATION:Attleboro office
SUMMARY:First Aid/CPR Attleboro
END:VEVENT
END:VCALENDAR
