BEGIN:VCALENDAR
VERSION:2.0
PRODID:-//www.arcnbc.org//NONSGML kigkonsult.se iCalcreator 2.30.10//
CALSCALE:GREGORIAN
METHOD:PUBLISH
UID:d3905149-08bd-4c55-a68b-dd45e9791de1
X-WR-CALDESC:
X-WR-RELCALID:234358161d76e3a4365afc4c6d506dc5
X-WR-TIMEZONE:America/New_York
BEGIN:VTIMEZONE
TZID:America/New_York
BEGIN:STANDARD
TZNAME:EST
DTSTART:20171105T020000
TZOFFSETFROM:-0400
TZOFFSETTO:-0500
RDATE:20181104T020000
END:STANDARD
BEGIN:DAYLIGHT
TZNAME:EDT
DTSTART:20170312T020000
TZOFFSETFROM:-0500
TZOFFSETTO:-0400
RDATE:20180311T020000
RDATE:20190310T020000
END:DAYLIGHT
END:VTIMEZONE
BEGIN:VEVENT
UID:962646fc-43ac-484f-a8c6-5a6423e7e319
DTSTAMP:20260423T134032Z
DESCRIPTION:
DTSTART;TZID=America/New_York:20180113T120000
DTEND;TZID=America/New_York:20180113T170000
LOCATION:Arc Attleboro
SUMMARY:'Once Upon a Mattress' Show
END:VEVENT
END:VCALENDAR
