BEGIN:VCALENDAR
VERSION:2.0
PRODID:-//www.arcnbc.org//NONSGML kigkonsult.se iCalcreator 2.30.10//
CALSCALE:GREGORIAN
METHOD:PUBLISH
UID:0eed6f7e-09b5-4eae-9d2a-959426991c59
X-WR-CALDESC:
X-WR-RELCALID:addf63f482dfe1270a5c460b616ed8a7
X-WR-TIMEZONE:America/New_York
BEGIN:VTIMEZONE
TZID:America/New_York
BEGIN:STANDARD
TZNAME:EST
DTSTART:20171105T020000
TZOFFSETFROM:-0400
TZOFFSETTO:-0500
RDATE:20181104T020000
END:STANDARD
BEGIN:DAYLIGHT
TZNAME:EDT
DTSTART:20170312T020000
TZOFFSETFROM:-0500
TZOFFSETTO:-0400
RDATE:20180311T020000
RDATE:20190310T020000
END:DAYLIGHT
END:VTIMEZONE
BEGIN:VEVENT
UID:c4ce88ee-14c6-4f8d-9020-cbab35402aad
DTSTAMP:20260423T133044Z
DESCRIPTION:
DTSTART;TZID=America/New_York:20180116T150000
DTEND;TZID=America/New_York:20180116T160000
LOCATION:TARC
SUMMARY:Current Events
END:VEVENT
END:VCALENDAR
