BEGIN:VCALENDAR
VERSION:2.0
PRODID:-//www.arcnbc.org//NONSGML kigkonsult.se iCalcreator 2.30.10//
CALSCALE:GREGORIAN
METHOD:PUBLISH
UID:b995e4bc-53b7-4409-8613-d46432703cab
X-WR-CALDESC:
X-WR-RELCALID:eda04afdec2cdd972ee423c32bd0f9a4
X-WR-TIMEZONE:America/New_York
BEGIN:VTIMEZONE
TZID:America/New_York
BEGIN:STANDARD
TZNAME:EST
DTSTART:20171105T020000
TZOFFSETFROM:-0400
TZOFFSETTO:-0500
RDATE:20181104T020000
END:STANDARD
BEGIN:DAYLIGHT
TZNAME:EDT
DTSTART:20170312T020000
TZOFFSETFROM:-0500
TZOFFSETTO:-0400
RDATE:20180311T020000
RDATE:20190310T020000
END:DAYLIGHT
END:VTIMEZONE
BEGIN:VEVENT
UID:8a50561e-28c3-4ce2-b65b-b6f4eaef08bc
DTSTAMP:20260423T133758Z
DESCRIPTION:
DTSTART;TZID=America/New_York:20180117T150000
DTEND;TZID=America/New_York:20180117T170000
LOCATION:TARC
SUMMARY:Bingo
END:VEVENT
END:VCALENDAR
