BEGIN:VCALENDAR
VERSION:2.0
PRODID:-//www.arcnbc.org//NONSGML kigkonsult.se iCalcreator 2.30.10//
CALSCALE:GREGORIAN
METHOD:PUBLISH
UID:dfa33c05-d8a3-49e5-8d22-569307096934
X-WR-CALDESC:
X-WR-RELCALID:7024a5af01bed12d4e1e3ed809c7fb3d
X-WR-TIMEZONE:America/New_York
BEGIN:VTIMEZONE
TZID:America/New_York
BEGIN:STANDARD
TZNAME:EST
DTSTART:20171105T020000
TZOFFSETFROM:-0400
TZOFFSETTO:-0500
RDATE:20181104T020000
END:STANDARD
BEGIN:DAYLIGHT
TZNAME:EDT
DTSTART:20170312T020000
TZOFFSETFROM:-0500
TZOFFSETTO:-0400
RDATE:20180311T020000
RDATE:20190310T020000
END:DAYLIGHT
END:VTIMEZONE
BEGIN:VEVENT
UID:61971f05-ff0b-4f09-9041-4833d6254e9f
DTSTAMP:20260423T133652Z
DESCRIPTION:
DTSTART;TZID=America/New_York:20180117T170000
DTEND;TZID=America/New_York:20180117T180000
LOCATION:Arc Attleboro/ E. Taunton Kenpo Karate
SUMMARY:Karate Class
END:VEVENT
END:VCALENDAR
