BEGIN:VCALENDAR
VERSION:2.0
PRODID:-//www.arcnbc.org//NONSGML kigkonsult.se iCalcreator 2.30.10//
CALSCALE:GREGORIAN
METHOD:PUBLISH
UID:1d745a65-93b4-4f4b-a4a6-92db15f42a06
X-WR-CALDESC:
X-WR-RELCALID:9e5e2b80e039c7dc5b17b17f48ebfe9c
X-WR-TIMEZONE:America/New_York
BEGIN:VTIMEZONE
TZID:America/New_York
BEGIN:STANDARD
TZNAME:EST
DTSTART:20171105T020000
TZOFFSETFROM:-0400
TZOFFSETTO:-0500
RDATE:20181104T020000
END:STANDARD
BEGIN:DAYLIGHT
TZNAME:EDT
DTSTART:20170312T020000
TZOFFSETFROM:-0500
TZOFFSETTO:-0400
RDATE:20180311T020000
RDATE:20190310T020000
END:DAYLIGHT
END:VTIMEZONE
BEGIN:VEVENT
UID:d35f3e4e-e86b-4a04-8255-35d8082920e0
DTSTAMP:20260423T133322Z
DESCRIPTION:
DTSTART;TZID=America/New_York:20180117T100000
DTEND;TZID=America/New_York:20180117T160000
LOCATION:Smithfield office
SUMMARY:Orientation\, Smithfield office
END:VEVENT
END:VCALENDAR
