BEGIN:VCALENDAR
VERSION:2.0
PRODID:-//www.arcnbc.org//NONSGML kigkonsult.se iCalcreator 2.30.10//
CALSCALE:GREGORIAN
METHOD:PUBLISH
UID:5d25cde5-8a39-4c61-a6a8-3f5d565886b1
X-WR-CALDESC:
X-WR-RELCALID:3d13a40d100e41f90584040adc71079a
X-WR-TIMEZONE:America/New_York
BEGIN:VTIMEZONE
TZID:America/New_York
BEGIN:STANDARD
TZNAME:EST
DTSTART:20171105T020000
TZOFFSETFROM:-0400
TZOFFSETTO:-0500
RDATE:20181104T020000
END:STANDARD
BEGIN:DAYLIGHT
TZNAME:EDT
DTSTART:20170312T020000
TZOFFSETFROM:-0500
TZOFFSETTO:-0400
RDATE:20180311T020000
RDATE:20190310T020000
END:DAYLIGHT
END:VTIMEZONE
BEGIN:VEVENT
UID:60c0bd89-a4de-4995-b089-c62ab1494032
DTSTAMP:20260423T133154Z
DESCRIPTION:
DTSTART;TZID=America/New_York:20180118T090000
DTEND;TZID=America/New_York:20180118T160000
LOCATION:Smithfield office
SUMMARY:NCI\, Smithfield office
END:VEVENT
END:VCALENDAR
