BEGIN:VCALENDAR
VERSION:2.0
PRODID:-//www.arcnbc.org//NONSGML kigkonsult.se iCalcreator 2.30.10//
CALSCALE:GREGORIAN
METHOD:PUBLISH
UID:62da9409-219b-40de-b31f-f91de100fd02
X-WR-CALDESC:
X-WR-RELCALID:dc5d46b50d9ec52275033f32fa7162c6
X-WR-TIMEZONE:America/New_York
BEGIN:VTIMEZONE
TZID:America/New_York
BEGIN:STANDARD
TZNAME:EST
DTSTART:20171105T020000
TZOFFSETFROM:-0400
TZOFFSETTO:-0500
RDATE:20181104T020000
END:STANDARD
BEGIN:DAYLIGHT
TZNAME:EDT
DTSTART:20170312T020000
TZOFFSETFROM:-0500
TZOFFSETTO:-0400
RDATE:20180311T020000
RDATE:20190310T020000
END:DAYLIGHT
END:VTIMEZONE
BEGIN:VEVENT
UID:f6dee169-2728-4ad6-ad94-060515b6b041
DTSTAMP:20260423T133147Z
DESCRIPTION:
DTSTART;TZID=America/New_York:20180119T190000
DTEND;TZID=America/New_York:20180119T210000
LOCATION:Attleboro YMCA Pleasant St. Branch
SUMMARY:GO Night
END:VEVENT
END:VCALENDAR
