BEGIN:VCALENDAR
VERSION:2.0
PRODID:-//www.arcnbc.org//NONSGML kigkonsult.se iCalcreator 2.30.10//
CALSCALE:GREGORIAN
METHOD:PUBLISH
UID:085ce5c8-dba5-43f2-9030-f643a45f2959
X-WR-CALDESC:
X-WR-RELCALID:4964b8e50fc1d799bf2f4ce3bb406dd0
X-WR-TIMEZONE:America/New_York
BEGIN:VTIMEZONE
TZID:America/New_York
BEGIN:STANDARD
TZNAME:EST
DTSTART:20171105T020000
TZOFFSETFROM:-0400
TZOFFSETTO:-0500
RDATE:20181104T020000
END:STANDARD
BEGIN:DAYLIGHT
TZNAME:EDT
DTSTART:20170312T020000
TZOFFSETFROM:-0500
TZOFFSETTO:-0400
RDATE:20180311T020000
RDATE:20190310T020000
END:DAYLIGHT
END:VTIMEZONE
BEGIN:VEVENT
UID:209b2fdb-ef88-44a1-a3f6-1099023a78b6
DTSTAMP:20260423T133622Z
DESCRIPTION:
DTSTART;TZID=America/New_York:20180120T133000
DTEND;TZID=America/New_York:20180120T183000
LOCATION:Arc Attleboro
SUMMARY:College Basketball
END:VEVENT
END:VCALENDAR
