BEGIN:VCALENDAR
VERSION:2.0
PRODID:-//www.arcnbc.org//NONSGML kigkonsult.se iCalcreator 2.30.10//
CALSCALE:GREGORIAN
METHOD:PUBLISH
UID:b5215596-5004-4351-af80-749f8ccb8be1
X-WR-CALDESC:
X-WR-RELCALID:f8cb350eeb3db27c8225258eba679e65
X-WR-TIMEZONE:America/New_York
BEGIN:VTIMEZONE
TZID:America/New_York
BEGIN:STANDARD
TZNAME:EST
DTSTART:20171105T020000
TZOFFSETFROM:-0400
TZOFFSETTO:-0500
RDATE:20181104T020000
END:STANDARD
BEGIN:DAYLIGHT
TZNAME:EDT
DTSTART:20170312T020000
TZOFFSETFROM:-0500
TZOFFSETTO:-0400
RDATE:20180311T020000
RDATE:20190310T020000
END:DAYLIGHT
END:VTIMEZONE
BEGIN:VEVENT
UID:b64993d2-a7f8-4a37-86d9-07858d3d8235
DTSTAMP:20260423T133153Z
DESCRIPTION:
DTSTART;TZID=America/New_York:20180122T150000
DTEND;TZID=America/New_York:20180122T170000
LOCATION:TARC
SUMMARY:Indoor Exercises
END:VEVENT
END:VCALENDAR
