BEGIN:VCALENDAR
VERSION:2.0
PRODID:-//www.arcnbc.org//NONSGML kigkonsult.se iCalcreator 2.30.10//
CALSCALE:GREGORIAN
METHOD:PUBLISH
UID:bedffb97-35e2-4902-be86-a32fb48e862a
X-WR-CALDESC:
X-WR-RELCALID:68d11a6435a0c6f2588114ef1718ccb7
X-WR-TIMEZONE:America/New_York
BEGIN:VTIMEZONE
TZID:America/New_York
BEGIN:STANDARD
TZNAME:EST
DTSTART:20171105T020000
TZOFFSETFROM:-0400
TZOFFSETTO:-0500
RDATE:20181104T020000
END:STANDARD
BEGIN:DAYLIGHT
TZNAME:EDT
DTSTART:20170312T020000
TZOFFSETFROM:-0500
TZOFFSETTO:-0400
RDATE:20180311T020000
RDATE:20190310T020000
END:DAYLIGHT
END:VTIMEZONE
BEGIN:VEVENT
UID:3786bb91-94de-4066-8c70-7d55c43e4ae5
DTSTAMP:20260423T133500Z
DESCRIPTION:
DTSTART;TZID=America/New_York:20180122T173000
DTEND;TZID=America/New_York:20180122T183000
LOCATION:Arc Attleboro
SUMMARY:Self Advocacy Group
END:VEVENT
END:VCALENDAR
